{"text_format":"3","workbook":"xlsx","n_sheets":5,"sheets":["記入例","請求書(入力)","請求書(正)","請求書(副)","請求書(貴社控)"],"not_rendered":{"images":1},"read":"whole","date_system":"1900"}

{"sheet":"記入例","index":0,"n_rows":37,"n_cols":59,"rows_kept":37,"merged":[[1,0,1,59],[5,37,5,41],[5,42,5,47],[5,48,5,49],[5,50,5,52],[5,53,5,54],[5,55,5,57],[5,58,5,59],[7,0,9,19],[7,20,9,23],[8,29,9,33],[8,34,9,55],[11,7,11,23],[11,29,12,33],[11,34,11,59],[12,7,12,8],[12,9,12,16],[12,17,12,18],[12,19,12,24],[12,34,12,59],[14,29,15,33],[14,34,16,55],[14,56,19,59],[17,34,19,55],[18,2,19,5],[18,6,19,7],[18,8,19,10],[18,11,19,12],[18,13,19,15],[18,16,19,17],[18,18,19,21],[20,2,21,21],[21,29,22,33],[21,34,22,48],[24,0,26,6],[24,7,26,21],[24,22,26,23],[25,28,34,29],[25,31,26,35],[25,36,26,44],[25,46,26,50],[25,51,26,59],[27,0,29,6],[27,7,29,21],[27,22,29,23],[27,31,28,35],[27,36,28,44],[27,45,28,49],[27,51,28,59],[29,31,32,35],[29,36,32,44],[29,45,32,59],[30,0,34,6],[30,7,34,21],[30,22,34,23],[33,31,34,35],[33,36,34,59],[36,30,36,59]]}
[]
["請　求　書　(正)"]
[]
[]
[]
[{"$nulls":37},"（西暦）",{"$nulls":4},2017,{"$nulls":5},"年",null,7,null,null,"月",null,31,null,null,"日"]
[]
[{"$nulls":20},"御中"]
[{"$nulls":29},"〒",{"$nulls":4},"100-0000"]
[]
[]
["〒130-0025",{"$nulls":6},"東京都墨田区千歳1-8-14",{"$nulls":21},"住所",{"$nulls":4},"東京都○×区○×○×1-2-3"]
[{"$nulls":7},"TEL",null,"03-3635-1111(代表)",{"$nulls":7},"FAX",null,"03-3635-1119",{"$nulls":14},0]
[]
[{"$nulls":29},"会社名",{"$nulls":4},"○×○×株式会社",{"$nulls":21},"㊞"]
[]
[]
[{"$nulls":34},0]
[null,null,2017,{"$nulls":3},"年",null,7,null,null,"月",null,31,null,null,"日",null,"締切分"]
[]
[null,null,"下記の通り御請求申し上げます。"]
[{"$nulls":29},"TEL",{"$nulls":4},"03-××××-××××"]
[]
[]
["本体価格\n（税抜）",{"$nulls":6},{"v":10000,"d":"10,000"},{"$nulls":14},"円"]
[{"$nulls":28},"登録口座",null,null,"金融機関ｺｰﾄﾞ",{"$nulls":4},"1234",{"$nulls":9},"本支店ｺｰﾄﾞ",{"$nulls":4},"1234"]
[]
["消費税額",{"$nulls":6},800,{"$nulls":14},"円",{"$nulls":8},"名称",{"$nulls":4},"△△△銀行",{"$nulls":8},"店名",{"$nulls":5},"□□支店"]
[]
[{"$nulls":31},"貯金種目\n口座番号",{"$nulls":4},"当座",{"$nulls":8},"1234567"]
["御請求額\n（消費税込）",{"$nulls":6},{"v":10800,"d":"10,800"},{"$nulls":14},"円"]
[]
[]
[{"$nulls":31},"口座名義(ｶﾅ)",{"$nulls":4},"ﾏﾙﾊﾞﾙﾏﾙﾊﾞﾙ ｶ)"]
[]
[]
[{"$nulls":30},"振込の場合のみ登録口座を記載して下さい。"]

{"sheet":"請求書(入力)","index":1,"n_rows":37,"n_cols":59,"rows_kept":37,"merged":[[1,0,1,59],[5,37,5,41],[5,42,5,47],[5,48,5,49],[5,50,5,52],[5,53,5,54],[5,55,5,57],[5,58,5,59],[7,0,9,19],[7,20,9,23],[8,29,9,33],[8,34,9,55],[11,7,11,23],[11,29,12,33],[11,34,11,59],[12,7,12,8],[12,9,12,16],[12,17,12,18],[12,19,12,24],[12,34,12,59],[14,29,15,33],[14,34,16,55],[14,56,19,59],[17,34,19,55],[18,2,19,5],[18,6,19,7],[18,8,19,10],[18,11,19,12],[18,13,19,15],[18,16,19,17],[18,18,19,21],[20,2,21,21],[21,29,22,33],[21,34,22,48],[24,0,26,6],[24,7,26,21],[24,22,26,23],[25,28,34,29],[25,31,26,35],[25,36,26,44],[25,46,26,50],[25,51,26,59],[27,0,29,6],[27,7,29,21],[27,22,29,23],[27,31,28,35],[27,36,28,44],[27,45,28,49],[27,51,28,59],[29,31,32,35],[29,36,32,44],[29,45,32,59],[30,0,34,6],[30,7,34,21],[30,22,34,23],[33,31,34,35],[33,36,34,59],[36,30,36,59]]}
[]
["入　力　画　面"]
[]
[]
[]
[{"$nulls":37},"（西暦）",{"$nulls":10},"年",{"$nulls":4},"月",{"$nulls":4},"日"]
[]
[{"$nulls":20},"御中"]
[{"$nulls":29},"〒"]
[]
[]
["〒130-0025",{"$nulls":6},"東京都墨田区千歳1-8-14",{"$nulls":21},"住所"]
[{"$nulls":7},"TEL",null,"03-3635-1111(代表)",{"$nulls":7},"FAX",null,"03-3635-1119"]
[]
[{"$nulls":29},"会社名",{"$nulls":26},"㊞"]
[]
[]
[]
[{"$nulls":6},"年",{"$nulls":4},"月",{"$nulls":4},"日",null,"締切分"]
[]
[null,null,"下記の通り御請求申し上げます。"]
[{"$nulls":29},"TEL"]
[]
[]
["本体価格\n（税抜）",{"$nulls":21},"円"]
[{"$nulls":28},"登録口座",null,null,"金融機関ｺｰﾄﾞ",{"$nulls":14},"本支店ｺｰﾄﾞ"]
[]
["消費税額",{"$nulls":21},"円",{"$nulls":8},"名称",{"$nulls":13},"店名"]
[]
[{"$nulls":31},"貯金種目\n口座番号"]
["御請求額\n（消費税込）",{"$nulls":6},{"$f":"H25+H28","v":0},{"$nulls":14},"円"]
[]
[]
[{"$nulls":31},"口座名義(ｶﾅ)"]
[]
[]
[{"$nulls":30},"振込の場合のみ登録口座を記載して下さい。"]

{"sheet":"請求書(正)","index":2,"n_rows":37,"n_cols":59,"rows_kept":37,"merged":[[1,0,1,59],[5,37,5,41],[5,42,5,47],[5,48,5,49],[5,50,5,52],[5,53,5,54],[5,55,5,57],[5,58,5,59],[7,0,9,19],[7,20,9,23],[8,29,9,33],[8,34,9,55],[11,7,11,23],[11,29,12,33],[11,34,11,59],[12,7,12,8],[12,9,12,16],[12,17,12,18],[12,19,12,24],[12,34,12,59],[14,29,15,33],[14,34,16,55],[14,56,19,59],[17,34,19,55],[18,2,19,5],[18,6,19,7],[18,8,19,10],[18,11,19,12],[18,13,19,15],[18,16,19,17],[18,18,19,21],[20,2,21,21],[21,29,22,33],[21,34,22,48],[24,0,26,6],[24,7,26,21],[24,22,26,23],[25,28,34,29],[25,31,26,35],[25,36,26,44],[25,46,26,50],[25,51,26,59],[27,0,29,6],[27,7,29,21],[27,22,29,23],[27,31,28,35],[27,36,28,44],[27,45,28,49],[27,51,28,59],[29,31,32,35],[29,36,32,44],[29,45,32,59],[30,0,34,6],[30,7,34,21],[30,22,34,23],[33,31,34,35],[33,36,34,59],[36,30,36,59]]}
[]
["請　求　書　(正)"]
[]
[]
[]
[{"$nulls":37},"（西暦）",{"$nulls":4},{"$f":"'請求書(入力)'!AQ6:AV6","v":0},{"$nulls":5},"年",null,{"$f":"'請求書(入力)'!AY6:BA6","v":0},null,null,"月",null,{"$f":"'請求書(入力)'!BD6:BF6","v":0},null,null,"日"]
[]
[{"$nulls":20},"御中"]
[{"$nulls":29},"〒",{"$nulls":4},{"$f":"'請求書(入力)'!AI9:BD10","v":0}]
[]
[]
["〒130-0025",{"$nulls":6},"東京都墨田区千歳1-8-14",{"$nulls":21},"住所",{"$nulls":4},{"$f":"'請求書(入力)'!AI12:BH12","v":0}]
[{"$nulls":7},"TEL",null,"03-3635-1111(代表)",{"$nulls":7},"FAX",null,"03-3635-1119",{"$nulls":14},{"$f":"'請求書(入力)'!AI13:BH13","v":0}]
[]
[{"$nulls":29},"会社名",{"$nulls":4},{"$f":"'請求書(入力)'!AI15:BD17","v":0},{"$nulls":21},"㊞"]
[]
[]
[{"$nulls":34},{"$f":"'請求書(入力)'!AI18:BD20","v":0}]
[null,null,{"$f":"'請求書(入力)'!C19:F20","v":0},{"$nulls":3},"年",null,{"$f":"'請求書(入力)'!I19:K20","v":0},null,null,"月",null,{"$f":"'請求書(入力)'!N19:P20","v":0},null,null,"日",null,"締切分"]
[]
[null,null,"下記の通り御請求申し上げます。"]
[{"$nulls":29},"TEL",{"$nulls":4},{"$f":"'請求書(入力)'!AI22:AW23","v":0}]
[]
[]
["本体価格\n（税抜）",{"$nulls":6},{"$f":"'請求書(入力)'!H25:V27","v":0},{"$nulls":14},"円"]
[{"$nulls":28},"登録口座",null,null,"金融機関ｺｰﾄﾞ",{"$nulls":4},{"$f":"'請求書(入力)'!AK26:AS27","v":0},{"$nulls":9},"本支店ｺｰﾄﾞ",{"$nulls":4},{"$f":"'請求書(入力)'!AZ26:BH27","v":0}]
[]
["消費税額",{"$nulls":6},{"$f":"'請求書(入力)'!H28:V30","v":0},{"$nulls":14},"円",{"$nulls":8},"名称",{"$nulls":4},{"$f":"'請求書(入力)'!AK28:AS29","v":0},{"$nulls":8},"店名",{"$nulls":5},{"$f":"'請求書(入力)'!AZ28:BH29","v":0}]
[]
[{"$nulls":31},"貯金種目\n口座番号",{"$nulls":4},{"$f":"'請求書(入力)'!AK30:AS33","v":0},{"$nulls":8},{"$f":"'請求書(入力)'!AT30:BH33","v":0}]
["御請求額\n（消費税込）",{"$nulls":6},{"$f":"H25+H28","v":0},{"$nulls":14},"円"]
[]
[]
[{"$nulls":31},"口座名義(ｶﾅ)",{"$nulls":4},{"$f":"'請求書(入力)'!AK34:BH35","v":0}]
[]
[]
[{"$nulls":30},"振込の場合のみ登録口座を記載して下さい。"]

{"sheet":"請求書(副)","index":3,"n_rows":37,"n_cols":59,"rows_kept":37,"merged":[[1,0,1,59],[5,37,5,41],[5,42,5,47],[5,48,5,49],[5,50,5,52],[5,53,5,54],[5,55,5,57],[5,58,5,59],[7,0,9,19],[7,20,9,23],[8,29,9,33],[8,34,9,55],[11,7,11,23],[11,29,12,33],[11,34,11,59],[12,7,12,8],[12,9,12,16],[12,17,12,18],[12,19,12,24],[12,34,12,59],[14,29,15,33],[14,34,16,55],[14,56,19,59],[17,34,19,55],[18,2,19,5],[18,6,19,7],[18,8,19,10],[18,11,19,12],[18,13,19,15],[18,16,19,17],[18,18,19,21],[20,2,21,21],[21,29,22,33],[21,34,22,48],[24,0,26,6],[24,7,26,21],[24,22,26,23],[25,28,34,29],[25,31,26,35],[25,36,26,44],[25,46,26,50],[25,51,26,59],[27,0,29,6],[27,7,29,21],[27,22,29,23],[27,31,28,35],[27,36,28,44],[27,45,28,49],[27,51,28,59],[29,31,32,35],[29,36,32,44],[29,45,32,59],[30,0,34,6],[30,7,34,21],[30,22,34,23],[33,31,34,35],[33,36,34,59],[36,30,36,59]]}
[]
["請　求　書　(副)"]
[]
[]
[]
[{"$nulls":37},"（西暦）",{"$nulls":4},{"$f":"'請求書(入力)'!AQ6:AV6","v":0},{"$nulls":5},"年",null,{"$f":"'請求書(入力)'!AY6:BA6","v":0},null,null,"月",null,{"$f":"'請求書(入力)'!BD6:BF6","v":0},null,null,"日"]
[]
[{"$nulls":20},"御中"]
[{"$nulls":29},"〒",{"$nulls":4},{"$f":"'請求書(入力)'!AI9:BD10","v":0}]
[]
[]
["〒130-0025",{"$nulls":6},"東京都墨田区千歳1-8-14",{"$nulls":21},"住所",{"$nulls":4},{"$f":"'請求書(入力)'!AI12:BH12","v":0}]
[{"$nulls":7},"TEL",null,"03-3635-1111(代表)",{"$nulls":7},"FAX",null,"03-3635-1119",{"$nulls":14},{"$f":"'請求書(入力)'!AI13:BH13","v":0}]
[]
[{"$nulls":29},"会社名",{"$nulls":4},{"$f":"'請求書(入力)'!AI15:BD17","v":0},{"$nulls":21},"㊞"]
[]
[]
[{"$nulls":34},{"$f":"'請求書(入力)'!AI18:BD20","v":0}]
[null,null,{"$f":"'請求書(入力)'!C19:F20","v":0},{"$nulls":3},"年",null,{"$f":"'請求書(入力)'!I19:K20","v":0},null,null,"月",null,{"$f":"'請求書(入力)'!N19:P20","v":0},null,null,"日",null,"締切分"]
[]
[null,null,"下記の通り御請求申し上げます。"]
[{"$nulls":29},"TEL",{"$nulls":4},{"$f":"'請求書(入力)'!AI22:AW23","v":0}]
[]
[]
["本体価格\n（税抜）",{"$nulls":6},{"$f":"'請求書(入力)'!H25:V27","v":0},{"$nulls":14},"円"]
[{"$nulls":28},"登録口座",null,null,"金融機関ｺｰﾄﾞ",{"$nulls":4},{"$f":"'請求書(入力)'!AK26:AS27","v":0},{"$nulls":9},"本支店ｺｰﾄﾞ",{"$nulls":4},{"$f":"'請求書(入力)'!AZ26:BH27","v":0}]
[]
["消費税額",{"$nulls":6},{"$f":"'請求書(入力)'!H28:V30","v":0},{"$nulls":14},"円",{"$nulls":8},"名称",{"$nulls":4},{"$f":"'請求書(入力)'!AK28:AS29","v":0},{"$nulls":8},"店名",{"$nulls":5},{"$f":"'請求書(入力)'!AZ28:BH29","v":0}]
[]
[{"$nulls":31},"貯金種目\n口座番号",{"$nulls":4},{"$f":"'請求書(入力)'!AK30:AS33","v":0},{"$nulls":8},{"$f":"'請求書(入力)'!AT30:BH33","v":0}]
["御請求額\n（消費税込）",{"$nulls":6},{"$f":"H25+H28","v":0},{"$nulls":14},"円"]
[]
[]
[{"$nulls":31},"口座名義(ｶﾅ)",{"$nulls":4},{"$f":"'請求書(入力)'!AK34:BH35","v":0}]
[]
[]
[{"$nulls":30},"振込の場合のみ登録口座を記載して下さい。"]

{"sheet":"請求書(貴社控)","index":4,"n_rows":37,"n_cols":59,"rows_kept":37,"merged":[[1,0,1,59],[5,37,5,41],[5,42,5,47],[5,48,5,49],[5,50,5,52],[5,53,5,54],[5,55,5,57],[5,58,5,59],[7,0,9,19],[7,20,9,23],[8,29,9,33],[8,34,9,55],[11,7,11,23],[11,29,12,33],[11,34,11,59],[12,7,12,8],[12,9,12,16],[12,17,12,18],[12,19,12,24],[12,34,12,59],[14,29,15,33],[14,34,16,55],[14,56,19,59],[17,34,19,55],[18,2,19,5],[18,6,19,7],[18,8,19,10],[18,11,19,12],[18,13,19,15],[18,16,19,17],[18,18,19,21],[20,2,21,21],[21,29,22,33],[21,34,22,48],[24,0,26,6],[24,7,26,21],[24,22,26,23],[25,28,34,29],[25,31,26,35],[25,36,26,44],[25,46,26,50],[25,51,26,59],[27,0,29,6],[27,7,29,21],[27,22,29,23],[27,31,28,35],[27,36,28,44],[27,45,28,49],[27,51,28,59],[29,31,32,35],[29,36,32,44],[29,45,32,59],[30,0,34,6],[30,7,34,21],[30,22,34,23],[33,31,34,35],[33,36,34,59],[36,30,36,59]]}
[]
["請　求　書　(貴社控)"]
[]
[]
[]
[{"$nulls":37},"（西暦）",{"$nulls":4},{"$f":"'請求書(入力)'!AQ6:AV6","v":0},{"$nulls":5},"年",null,{"$f":"'請求書(入力)'!AY6:BA6","v":0},null,null,"月",null,{"$f":"'請求書(入力)'!BD6:BF6","v":0},null,null,"日"]
[]
[{"$nulls":20},"御中"]
[{"$nulls":29},"〒",{"$nulls":4},{"$f":"'請求書(入力)'!AI9:BD10","v":0}]
[]
[]
["〒130-0025",{"$nulls":6},"東京都墨田区千歳1-8-14",{"$nulls":21},"住所",{"$nulls":4},{"$f":"'請求書(入力)'!AI12:BH12","v":0}]
[{"$nulls":7},"TEL",null,"03-3635-1111(代表)",{"$nulls":7},"FAX",null,"03-3635-1119",{"$nulls":14},{"$f":"'請求書(入力)'!AI13:BH13","v":0}]
[]
[{"$nulls":29},"会社名",{"$nulls":4},{"$f":"'請求書(入力)'!AI15:BD17","v":0},{"$nulls":21},"㊞"]
[]
[]
[{"$nulls":34},{"$f":"'請求書(入力)'!AI18:BD20","v":0}]
[null,null,{"$f":"'請求書(入力)'!C19:F20","v":0},{"$nulls":3},"年",null,{"$f":"'請求書(入力)'!I19:K20","v":0},null,null,"月",null,{"$f":"'請求書(入力)'!N19:P20","v":0},null,null,"日",null,"締切分"]
[]
[null,null,"下記の通り御請求申し上げます。"]
[{"$nulls":29},"TEL",{"$nulls":4},{"$f":"'請求書(入力)'!AI22:AW23","v":0}]
[]
[]
["本体価格\n（税抜）",{"$nulls":6},{"$f":"'請求書(入力)'!H25:V27","v":0},{"$nulls":14},"円"]
[{"$nulls":28},"登録口座",null,null,"金融機関ｺｰﾄﾞ",{"$nulls":4},{"$f":"'請求書(入力)'!AK26:AS27","v":0},{"$nulls":9},"本支店ｺｰﾄﾞ",{"$nulls":4},{"$f":"'請求書(入力)'!AZ26:BH27","v":0}]
[]
["消費税額",{"$nulls":6},{"$f":"'請求書(入力)'!H28:V30","v":0},{"$nulls":14},"円",{"$nulls":8},"名称",{"$nulls":4},{"$f":"'請求書(入力)'!AK28:AS29","v":0},{"$nulls":8},"店名",{"$nulls":5},{"$f":"'請求書(入力)'!AZ28:BH29","v":0}]
[]
[{"$nulls":31},"貯金種目\n口座番号",{"$nulls":4},{"$f":"'請求書(入力)'!AK30:AS33","v":0},{"$nulls":8},{"$f":"'請求書(入力)'!AT30:BH33","v":0}]
["御請求額\n（消費税込）",{"$nulls":6},{"$f":"H25+H28","v":0},{"$nulls":14},"円"]
[]
[]
[{"$nulls":31},"口座名義(ｶﾅ)",{"$nulls":4},{"$f":"'請求書(入力)'!AK34:BH35","v":0}]
[]
[]
[{"$nulls":30},"振込の場合のみ登録口座を記載して下さい。"]